BEGIN:VCALENDAR
PRODID:-//Solspace/Calendar 2.x//EN
VERSION:2.0
CALSCALE:GREGORIAN
BEGIN:VEVENT
UID:152020d939cc359c6f939b6c3372ee73@solspace.com
DTSTAMP:20260423T091228
DTSTART;VALUE=DATE:20230907
DTEND;VALUE=DATE:20230908
SUMMARY:Senior Olympics: Corn Hole Doubles
END:VEVENT
BEGIN:VEVENT
UID:33c69a7758a436a213d993b77d7ad2ce@solspace.com
DTSTAMP:20260423T091228
DTSTART;VALUE=DATE:20230911
DTEND;VALUE=DATE:20230912
SUMMARY:Senior Olympics: Bowling
END:VEVENT
BEGIN:VEVENT
UID:dd86670780e642909079bcc0efd4629e@solspace.com
DTSTAMP:20260423T091228
DTSTART;VALUE=DATE:20230914
DTEND;VALUE=DATE:20230915
SUMMARY:Senior Olympics: Shuffleboard Singles
END:VEVENT
BEGIN:VEVENT
UID:0ac1439914e1fc4394869c0484d77f3a@solspace.com
DTSTAMP:20260423T091228
DTSTART;VALUE=DATE:20230915
DTEND;VALUE=DATE:20230916
SUMMARY:Senior Olympics: Shuffleboard Doubles
END:VEVENT
BEGIN:VEVENT
UID:573f63245948c21f0994df9f46006565@solspace.com
DTSTAMP:20260423T091228
DTSTART;VALUE=DATE:20230918
DTEND;VALUE=DATE:20230919
SUMMARY:Senior Olympics: Golf
END:VEVENT
BEGIN:VEVENT
UID:fae41f98d36226f3053ccf446fecb0a6@solspace.com
DTSTAMP:20260423T091228
DTSTART;VALUE=DATE:20230925
DTEND;VALUE=DATE:20230926
SUMMARY:Rain Date for Senior Olympics Golf
END:VEVENT
BEGIN:VEVENT
UID:4ac213fa089bbe5d9ee923ee7d3267f8@solspace.com
DTSTAMP:20260423T091228
DTSTART;VALUE=DATE:20230921
DTEND;VALUE=DATE:20230922
SUMMARY:Senior Olympics: Table Tennis
END:VEVENT
BEGIN:VEVENT
UID:588586f382a426b02b25106c994ab8b7@solspace.com
DTSTAMP:20260423T091228
DTSTART;VALUE=DATE:20231024
DTEND;VALUE=DATE:20231025
SUMMARY:Senior Olympics: Track and Field
END:VEVENT
BEGIN:VEVENT
UID:8567275f7c32e268df356479423ab152@solspace.com
DTSTAMP:20260423T091228
DTSTART;VALUE=DATE:20231027
DTEND;VALUE=DATE:20231028
SUMMARY:Senior Olympics: Pickleball
END:VEVENT
END:VCALENDAR
