BEGIN:VCALENDAR
PRODID:-//Solspace/Calendar 2.x//EN
VERSION:2.0
CALSCALE:GREGORIAN
BEGIN:VEVENT
UID:152020d939cc359c6f939b6c3372ee73@solspace.com
DTSTAMP:20260425T110543
DTSTART;VALUE=DATE:20230907
DTEND;VALUE=DATE:20230908
SUMMARY:Senior Olympics: Corn Hole Doubles
END:VEVENT
END:VCALENDAR
