BEGIN:VCALENDAR
PRODID:-//Solspace/Calendar 2.x//EN
VERSION:2.0
CALSCALE:GREGORIAN
BEGIN:VEVENT
UID:cf49da35427a2119b83e864684cf7343@solspace.com
DTSTAMP:20260425T105723
DTSTART:20230912T093000
DTEND:20230912T103000
SUMMARY:Advisory Council Meeting
END:VEVENT
END:VCALENDAR
