BEGIN:VCALENDAR
PRODID:-//Solspace/Calendar 2.x//EN
VERSION:2.0
CALSCALE:GREGORIAN
BEGIN:VEVENT
UID:0ac1439914e1fc4394869c0484d77f3a@solspace.com
DTSTAMP:20260425T110419
DTSTART;VALUE=DATE:20230915
DTEND;VALUE=DATE:20230916
SUMMARY:Senior Olympics: Shuffleboard Doubles
END:VEVENT
END:VCALENDAR
