BEGIN:VCALENDAR
PRODID:-//Solspace/Calendar 2.x//EN
VERSION:2.0
CALSCALE:GREGORIAN
BEGIN:VEVENT
UID:4ac213fa089bbe5d9ee923ee7d3267f8@solspace.com
DTSTAMP:20260425T110543
DTSTART;VALUE=DATE:20230921
DTEND;VALUE=DATE:20230922
SUMMARY:Senior Olympics: Table Tennis
END:VEVENT
END:VCALENDAR
